BEGIN:VCALENDAR
VERSION:2.0
PRODID:spatie/icalendar-generator
DESCRIPTION:Events from Town of Manalapan
X-WR-CALDESC:Events from Town of Manalapan
REFRESH-INTERVAL;VALUE=DURATION:PT1440M
X-PUBLISHED-TTL:PT1440M
BEGIN:VTIMEZONE
TZID:Etc/GMT+0
BEGIN:STANDARD
DTSTART:20260314T090000Z
TZOFFSETFROM:+0000
TZOFFSETTO:+0000
END:STANDARD
END:VTIMEZONE
BEGIN:VTIMEZONE
TZID:UTC
BEGIN:STANDARD
DTSTART:20250725T202317Z
TZOFFSETFROM:+0000
TZOFFSETTO:+0000
END:STANDARD
END:VTIMEZONE
BEGIN:VEVENT
UID:271-39
DTSTAMP:20260421T202317Z
SUMMARY:Pension Board
LOCATION:J. Turner Moore Memorial Library  1330 Lands End Road    Manalapan
  FL
ORGANIZER;CN=EPeterson:MAILTO:epetersen@manalapan.org
DTSTART;TZID=Etc/GMT+0:20261209T090000
DTEND;TZID=Etc/GMT+0:20261209T100000
X-ALT-DESC;FMTTYPE=TEXT/HTML:
CATEGORIES:Pension Board
URL;VALUE=URI:https://manalapan.org/mc-events/pension-board-3/
METHOD:PUBLISH
END:VEVENT
END:VCALENDAR